BEGIN:VCALENDAR
VERSION:2.0
PRODID:-//Yoga Parinama - ECPv6.15.20//NONSGML v1.0//EN
CALSCALE:GREGORIAN
METHOD:PUBLISH
X-WR-CALNAME:Yoga Parinama
X-ORIGINAL-URL:https://yoga-parinama.com
X-WR-CALDESC:Eventi per Yoga Parinama
REFRESH-INTERVAL;VALUE=DURATION:PT1H
X-Robots-Tag:noindex
X-PUBLISHED-TTL:PT1H
BEGIN:VTIMEZONE
TZID:Europe/Rome
BEGIN:DAYLIGHT
TZOFFSETFROM:+0100
TZOFFSETTO:+0200
TZNAME:CEST
DTSTART:20220327T010000
END:DAYLIGHT
BEGIN:STANDARD
TZOFFSETFROM:+0200
TZOFFSETTO:+0100
TZNAME:CET
DTSTART:20221030T010000
END:STANDARD
BEGIN:DAYLIGHT
TZOFFSETFROM:+0100
TZOFFSETTO:+0200
TZNAME:CEST
DTSTART:20230326T010000
END:DAYLIGHT
BEGIN:STANDARD
TZOFFSETFROM:+0200
TZOFFSETTO:+0100
TZNAME:CET
DTSTART:20231029T010000
END:STANDARD
BEGIN:DAYLIGHT
TZOFFSETFROM:+0100
TZOFFSETTO:+0200
TZNAME:CEST
DTSTART:20240331T010000
END:DAYLIGHT
BEGIN:STANDARD
TZOFFSETFROM:+0200
TZOFFSETTO:+0100
TZNAME:CET
DTSTART:20241027T010000
END:STANDARD
END:VTIMEZONE
BEGIN:VEVENT
DTSTART;TZID=Europe/Rome:20230915T180000
DTEND;TZID=Europe/Rome:20230915T200000
DTSTAMP:20260423T233458
CREATED:20230905T145026Z
LAST-MODIFIED:20230905T150320Z
UID:2584-1694800800-1694808000@yoga-parinama.com
SUMMARY:l'ARTE DEL RESPIRO - RIEDUCARE UN GESTO NATURALE 1
DESCRIPTION:“Respirare è molto di più che far entrare aria nel corpo. E’ il contatto più intimo con ciò che ci circonda. Respirare significa assimilare minuscoli frammenti di vita\, comprenderli e restituire piccoli pezzi di noi stessi. La respirazione è in sostanza reciprocità.” \nWorkshop per praticanti e non\, per tutti coloro che vogliono conoscere e approfondire il tema del respiro\, per imparare ad usare i muscoli respiratori e sperimentare la relazione tra respiro e attività mentale.
URL:https://yoga-parinama.com/evento/larte-del-respiro-rieducare-un-gesto-naturale-1/
CATEGORIES:Workshop,Yoga Respiro
ATTACH;FMTTYPE=image/png:https://yoga-parinama.com/wp-content/uploads/2018/08/respiro.png
END:VEVENT
BEGIN:VEVENT
DTSTART;TZID=Europe/Rome:20230917T073000
DTEND;TZID=Europe/Rome:20230917T093000
DTSTAMP:20260423T233458
CREATED:20230905T145304Z
LAST-MODIFIED:20230905T145304Z
UID:2587-1694935800-1694943000@yoga-parinama.com
SUMMARY:L'ARTE DEL RESPIRO - RIEDUCARE UN GESTO NATURALE
DESCRIPTION:“Respirare è molto di più che far entrare aria nel corpo. E’ il contatto più intimo con ciò che ci circonda. Respirare significa assimilare minuscoli frammenti di vita\, comprenderli e restituire piccoli pezzi di noi stessi. La respirazione è in sostanza reciprocità.” \nWorkshop per praticanti e non\, per tutti coloro che vogliono conoscere e approfondire il tema del respiro\, per imparare ad usare i muscoli respiratori e sperimentare la relazione tra respiro e attività mentale.
URL:https://yoga-parinama.com/evento/larte-del-respiro-rieducare-un-gesto-naturale/
CATEGORIES:Workshop,Yoga Respiro
ATTACH;FMTTYPE=image/png:https://yoga-parinama.com/wp-content/uploads/2018/08/respiro.png
END:VEVENT
END:VCALENDAR