BEGIN:VCALENDAR
VERSION:2.0
PRODID:-//Yoga Parinama - ECPv6.15.20//NONSGML v1.0//EN
CALSCALE:GREGORIAN
METHOD:PUBLISH
X-WR-CALNAME:Yoga Parinama
X-ORIGINAL-URL:https://yoga-parinama.com
X-WR-CALDESC:Eventi per Yoga Parinama
REFRESH-INTERVAL;VALUE=DURATION:PT1H
X-Robots-Tag:noindex
X-PUBLISHED-TTL:PT1H
BEGIN:VTIMEZONE
TZID:Europe/Rome
BEGIN:DAYLIGHT
TZOFFSETFROM:+0100
TZOFFSETTO:+0200
TZNAME:CEST
DTSTART:20210328T010000
END:DAYLIGHT
BEGIN:STANDARD
TZOFFSETFROM:+0200
TZOFFSETTO:+0100
TZNAME:CET
DTSTART:20211031T010000
END:STANDARD
BEGIN:DAYLIGHT
TZOFFSETFROM:+0100
TZOFFSETTO:+0200
TZNAME:CEST
DTSTART:20220327T010000
END:DAYLIGHT
BEGIN:STANDARD
TZOFFSETFROM:+0200
TZOFFSETTO:+0100
TZNAME:CET
DTSTART:20221030T010000
END:STANDARD
BEGIN:DAYLIGHT
TZOFFSETFROM:+0100
TZOFFSETTO:+0200
TZNAME:CEST
DTSTART:20230326T010000
END:DAYLIGHT
BEGIN:STANDARD
TZOFFSETFROM:+0200
TZOFFSETTO:+0100
TZNAME:CET
DTSTART:20231029T010000
END:STANDARD
END:VTIMEZONE
BEGIN:VEVENT
DTSTART;TZID=Europe/Rome:20221106T090000
DTEND;TZID=Europe/Rome:20221106T120000
DTSTAMP:20260422T213659
CREATED:20221025T153033Z
LAST-MODIFIED:20221025T153052Z
UID:2493-1667725200-1667736000@yoga-parinama.com
SUMMARY:Yoga e klesa - Le afflizioni mentali e il metodo yoga che rimuove la sofferenza
DESCRIPTION:Abbiamo il piacere di ospitare a Jesi Cristiana Biogli e Sergio Busi  fondatori del Druma Yoga di Firenze insegnanti di Yoga e autori del libro YOGA E KLESA che ci accompagneranno alla comprensione della teoria dei klesa attraverso la pratica e la presentazione del loro libro. . \nIl termine yoga è oggi presente non solo nella cultura asiatica ma in quella di tutti i continenti ed è importante capirne il significato perché spesso viene usato per indicare attività che con lo Yoga hanno poco a che fare. In questo testo si parte dagli Yogasutra di Pataniìjali che sono il principale testo filosofico di riferimento dello yoga contemporaneo. Studiando gli yogasutra ci si imbatte nella teoria dei Klesa\, il cuore dell’insegnamento di Patanjali\, secondo cui lo yoga è una via che libera l’individuo dalla sofferenza\, la cui origine risiede nelle cinque afflizioni mentali: ignoranza\, senso dell’io\, attaccamento\, repulsione\, paura della morte.
URL:https://yoga-parinama.com/evento/yoga-e-klesa-le-afflizioni-mentali-e-il-metodo-yoga-che-rimuove-la-sofferenza/
LOCATION:Scuola di Danza Cinzia Scuppa\, P.le Anna Ciabotti 4\, Jesi\, Ancona\, 60035\, Italia
CATEGORIES:MEDITAZIONE,YOGA
ATTACH;FMTTYPE=image/jpeg:https://yoga-parinama.com/wp-content/uploads/2022/10/Cattura.jpg
ORGANIZER;CN="Antonella":MAILTO:bantonellaboni@gmail.com
END:VEVENT
END:VCALENDAR